Workbook

Sheet Sheet1
A1: ='[1]评分表(总) '!A5 -> 组别 | B1: 学校队伍 | C1: 参赛选手姓名
A2: ='[1]评分表(总) '!A94 -> 19-089 | B2: =[1]参赛作品信息【全】!B92&[1]参赛作品信息【全】!E92 -> 杭州职业技术学院参赛1队 | C2: 孙慈忆 | D2: 郑爱婷 | E2: 徐浙威
A3: ='[1]评分表(总) '!A96 -> 19-091 | B3: =[1]参赛作品信息【全】!B94&[1]参赛作品信息【全】!E94 -> 杭州职业技术学院参赛3队 | C3: 俞文阳 | D3: 连伊雯 | E3: 谢姣
A4: ='[1]评分表(总) '!A97 -> 19-092 | B4: =[1]参赛作品信息【全】!B95&[1]参赛作品信息【全】!E95 -> 杭州职业技术学院参赛4队 | C4: 潘晨晨 | D4: 张理豪 | E4: 俞君诚
A5: ='[1]评分表(总) '!A98 -> 19-093 | B5: =[1]参赛作品信息【全】!B96&[1]参赛作品信息【全】!E96 -> 杭州职业技术学院参赛5队 | C5: 陈浩杰 | D5: 秦刘丹 | E5: 郑威龙
A6: ='[1]评分表(总) '!A99 -> 19-094 | B6: =[1]参赛作品信息【全】!B97&[1]参赛作品信息【全】!E97 -> 杭州职业技术学院参赛6队 | C6: 舒逸祺 | D6: 马浩辰 | E6: 徐仪儒
A7: ='[1]评分表(总) '!A110 -> 19-105 | B7: =[1]参赛作品信息【全】!B108&[1]参赛作品信息【全】!E108 -> 湖州职业技术学院参赛1队 | C7: 黄志诚 | D7: 林婉欣 | E7: 李佳琦
A8: ='[1]评分表(总) '!A102 -> 19-097 | B8: =[1]参赛作品信息【全】!B100&[1]参赛作品信息【全】!E100 -> 湖州职业技术学院参赛4队 | C8: 杨磊 | D8: 肖尧 | E8: 华轶荟
A9: ='[1]评分表(总) '!A44 -> 19-039 | B9: =[1]参赛作品信息【全】!B42&[1]参赛作品信息【全】!E42 -> 湖州职业技术学院参赛5队 | C9: 凌晨龙 | D9: 张肇平 | E9: 舒轲
A10: ='[1]评分表(总) '!A93 -> 19-088 | B10: =[1]参赛作品信息【全】!B91&[1]参赛作品信息【全】!E91 -> 嘉兴职业技术学院参赛3队 | C10: 杨巧 | D10: 赵祎 | E10: 刘宇轩
A11: ='[1]评分表(总) '!A30 -> 19-025 | B11: =[1]参赛作品信息【全】!B28&[1]参赛作品信息【全】!E28 -> 嘉兴职业技术学院参赛4队 | C11: 陈洋洋 | D11: 张荣奎 | E11: 童海涛
A12: ='[1]评分表(总) '!A16 -> 19-011 | B12: =[1]参赛作品信息【全】!B14&[1]参赛作品信息【全】!E14 -> 金华职业技术学院参赛2队 | C12: 李思毅 | D12: 杨帧楠 | E12: 章震
A13: ='[1]评分表(总) '!A19 -> 19-014 | B13: =[1]参赛作品信息【全】!B17&[1]参赛作品信息【全】!E17 -> 金华职业技术学院参赛3队 | C13: 陈麒 | D13: 葛思平 | E13: 潘文辉
A14: ='[1]评分表(总) '!A50 -> 19-045 | B14: =[1]参赛作品信息【全】!B48&[1]参赛作品信息【全】!E48 -> 金华职业技术学院参赛4队 | C14: 刘明玲 | D14: 裘湉 | E14: 刘鑫
A15: ='[1]评分表(总) '!A40 -> 19-035 | B15: =[1]参赛作品信息【全】!B38&[1]参赛作品信息【全】!E38 -> 金华职业技术学院参赛5队 | C15: 金煌雯 | D15: 朱航 | E15: 蔡雨纹
A16: ='[1]评分表(总) '!A121 -> 19-116 | B16: =[1]参赛作品信息【全】!B119&[1]参赛作品信息【全】!E119 -> 宁波城市职业技术学院参赛1队 | C16: 陈昕 | D16: 单文静 | E16: 俞青青
A17: ='[1]评分表(总) '!A101 -> 19-096 | B17: =[1]参赛作品信息【全】!B99&[1]参赛作品信息【全】!E99 -> 宁波城市职业技术学院参赛5队 | C17: 杨洋 | D17: 周梦瑶 | E17: 胡舒琴
A18: ='[1]评分表(总) '!A62 -> 19-057 | B18: =[1]参赛作品信息【全】!B60&[1]参赛作品信息【全】!E60 -> 衢州职业技术学院参赛1队 | C18: 麻玲玲 | D18: 金步集 | E18: 涂霄龙
A19: ='[1]评分表(总) '!A31 -> 19-026 | B19: =[1]参赛作品信息【全】!B29&[1]参赛作品信息【全】!E29 -> 衢州职业技术学院参赛2队 | C19: 龙威 | D19: 陈钰 | E19: 王志杰
A20: ='[1]评分表(总) '!A115 -> 19-110 | B20: =[1]参赛作品信息【全】!B113&[1]参赛作品信息【全】!E113 -> 衢州职业技术学院参赛3队 | C20: 王思瑞 | D20: 陈慧婷 | E20: 徐倩
A21: ='[1]评分表(总) '!A26 -> 19-021 | B21: =[1]参赛作品信息【全】!B24&[1]参赛作品信息【全】!E24 -> 衢州职业技术学院参赛5队 | C21: 郭荣 | D21: 娄博函 | E21: 廖晓航
A22: ='[1]评分表(总) '!A145 -> 19-140 | B22: =[1]参赛作品信息【全】!B143&[1]参赛作品信息【全】!E143 -> 绍兴职业技术学院参赛3队 | C22: 黄锦锦 | D22: 蒋子健 | E22: 林梦琦
A23: ='[1]评分表(总) '!A89 -> 19-084 | B23: =[1]参赛作品信息【全】!B87&[1]参赛作品信息【全】!E87 -> 绍兴职业技术学院参赛5队 | C23: 王玮 | D23: 姜美君 | E23: 郑皓
A24: ='[1]评分表(总) '!A63 -> 19-058 | B24: =[1]参赛作品信息【全】!B61&[1]参赛作品信息【全】!E61 -> 绍兴职业技术学院参赛6队 | C24: 龚佳男 | D24: 谈业晟 | E24: 魏斌
A25: ='[1]评分表(总) '!A33 -> 19-028 | B25: =[1]参赛作品信息【全】!B31&[1]参赛作品信息【全】!E31 -> 温州职业技术学院参赛1队 | C25: 李永盛 | D25: 朱浩博 | E25: 张万清
A26: ='[1]评分表(总) '!A153 -> 19-148 | B26: =[1]参赛作品信息【全】!B151&[1]参赛作品信息【全】!E151 -> 浙江工贸职业技术学院参赛1队 | C26: 叶紫怡 | D26: 边盼 | E26: 陈洁
A27: ='[1]评分表(总) '!A156 -> 19-151 | B27: =[1]参赛作品信息【全】!B154&[1]参赛作品信息【全】!E154 -> 浙江工贸职业技术学院参赛2队 | C27: 丁廷迪 | D27: 李佳雯 | E27: 叶倩霞
A28: ='[1]评分表(总) '!A140 -> 19-135 | B28: =[1]参赛作品信息【全】!B138&[1]参赛作品信息【全】!E138 -> 浙江工贸职业技术学院参赛4队 | C28: 朱文杰 | D28: 何嘉祺 | E28: 雷伊依
A29: ='[1]评分表(总) '!A152 -> 19-147 | B29: =[1]参赛作品信息【全】!B150&[1]参赛作品信息【全】!E150 -> 浙江工贸职业技术学院参赛5队 | C29: 杨国峰 | D29: 张汀维 | E29: 杨晓飞
A30: ='[1]评分表(总) '!A15 -> 19-010 | B30: =[1]参赛作品信息【全】!B13&[1]参赛作品信息【全】!E13 -> 浙江广厦建设职业技术学院参赛4队 | C30: 郑珊珊 | D30: 吴藤 | E30: 张莉林
A31: ='[1]评分表(总) '!A13 -> 19-008 | B31: =[1]参赛作品信息【全】!B11&[1]参赛作品信息【全】!E11 -> 浙江国际海运职业技术学院参赛2队 | C31: 董增辉 | D31: 王威璇 | E31: 蒋欢乐
A32: ='[1]评分表(总) '!A27 -> 19-022 | B32: =[1]参赛作品信息【全】!B25&[1]参赛作品信息【全】!E25 -> 浙江横店影视职业学院参赛1队 | C32: 施亨杨 | D32: 周玲 | E32: 周江榧
A33: ='[1]评分表(总) '!A24 -> 19-019 | B33: =[1]参赛作品信息【全】!B22&[1]参赛作品信息【全】!E22 -> 浙江横店影视职业学院参赛2队 | C33: 钟方娇 | D33: 黄永康 | E33: 谢博静
A34: ='[1]评分表(总) '!A25 -> 19-020 | B34: =[1]参赛作品信息【全】!B23&[1]参赛作品信息【全】!E23 -> 浙江横店影视职业学院参赛3队 | C34: 雷源 | D34: 董益轩 | E34: 詹子轩
A35: ='[1]评分表(总) '!A118 -> 19-113 | B35: =[1]参赛作品信息【全】!B116&[1]参赛作品信息【全】!E116 -> 浙江横店影视职业学院参赛6队 | C35: 仲逸安 | D35: 沈骆康 | E35: 鲁光辉
A36: ='[1]评分表(总) '!A112 -> 19-107 | B36: =[1]参赛作品信息【全】!B110&[1]参赛作品信息【全】!E110 -> 浙江经济职业技术学院参赛1队 | C36: 蔡洁 | D36: 陈凯楠 | E36: 章文杰
A37: ='[1]评分表(总) '!A41 -> 19-036 | B37: =[1]参赛作品信息【全】!B39&[1]参赛作品信息【全】!E39 -> 浙江经济职业技术学院参赛2队 | C37: 陈镇豪 | D37: 单婉莹
A38: ='[1]评分表(总) '!A53 -> 19-048 | B38: =[1]参赛作品信息【全】!B51&[1]参赛作品信息【全】!E51 -> 浙江经济职业技术学院参赛3队 | C38: 张钊 | D38: 潘瑞贤 | E38: 杨丁
A39: ='[1]评分表(总) '!A103 -> 19-098 | B39: =[1]参赛作品信息【全】!B101&[1]参赛作品信息【全】!E101 -> 浙江经济职业技术学院参赛4队 | C39: 孙倩 | D39: 胡楷峰 | E39: 叶滢欣
A40: ='[1]评分表(总) '!A70 -> 19-065 | B40: =[1]参赛作品信息【全】!B68&[1]参赛作品信息【全】!E68 -> 浙江经济职业技术学院参赛6队 | C40: 王晓庆 | D40: 毛素云 | E40: 王青云
...
